BEGIN:VCALENDAR
VERSION:2.0
PRODID:-//Dr. Lisa Brady Grant, D.C. - ECPv6.15.3//NONSGML v1.0//EN
CALSCALE:GREGORIAN
METHOD:PUBLISH
X-WR-CALNAME:Dr. Lisa Brady Grant, D.C.
X-ORIGINAL-URL:https://skidancer.com
X-WR-CALDESC:Events for Dr. Lisa Brady Grant, D.C.
REFRESH-INTERVAL;VALUE=DURATION:PT1H
X-Robots-Tag:noindex
X-PUBLISHED-TTL:PT1H
BEGIN:VTIMEZONE
TZID:America/Denver
BEGIN:DAYLIGHT
TZOFFSETFROM:-0700
TZOFFSETTO:-0600
TZNAME:MDT
DTSTART:20190310T090000
END:DAYLIGHT
BEGIN:STANDARD
TZOFFSETFROM:-0600
TZOFFSETTO:-0700
TZNAME:MST
DTSTART:20191103T080000
END:STANDARD
BEGIN:DAYLIGHT
TZOFFSETFROM:-0700
TZOFFSETTO:-0600
TZNAME:MDT
DTSTART:20200308T090000
END:DAYLIGHT
BEGIN:STANDARD
TZOFFSETFROM:-0600
TZOFFSETTO:-0700
TZNAME:MST
DTSTART:20201101T080000
END:STANDARD
BEGIN:DAYLIGHT
TZOFFSETFROM:-0700
TZOFFSETTO:-0600
TZNAME:MDT
DTSTART:20210314T090000
END:DAYLIGHT
BEGIN:STANDARD
TZOFFSETFROM:-0600
TZOFFSETTO:-0700
TZNAME:MST
DTSTART:20211107T080000
END:STANDARD
BEGIN:DAYLIGHT
TZOFFSETFROM:-0700
TZOFFSETTO:-0600
TZNAME:MDT
DTSTART:20220313T090000
END:DAYLIGHT
BEGIN:STANDARD
TZOFFSETFROM:-0600
TZOFFSETTO:-0700
TZNAME:MST
DTSTART:20221106T080000
END:STANDARD
BEGIN:DAYLIGHT
TZOFFSETFROM:-0700
TZOFFSETTO:-0600
TZNAME:MDT
DTSTART:20230312T090000
END:DAYLIGHT
BEGIN:STANDARD
TZOFFSETFROM:-0600
TZOFFSETTO:-0700
TZNAME:MST
DTSTART:20231105T080000
END:STANDARD
BEGIN:DAYLIGHT
TZOFFSETFROM:-0700
TZOFFSETTO:-0600
TZNAME:MDT
DTSTART:20240310T090000
END:DAYLIGHT
BEGIN:STANDARD
TZOFFSETFROM:-0600
TZOFFSETTO:-0700
TZNAME:MST
DTSTART:20241103T080000
END:STANDARD
BEGIN:DAYLIGHT
TZOFFSETFROM:-0700
TZOFFSETTO:-0600
TZNAME:MDT
DTSTART:20250309T090000
END:DAYLIGHT
BEGIN:STANDARD
TZOFFSETFROM:-0600
TZOFFSETTO:-0700
TZNAME:MST
DTSTART:20251102T080000
END:STANDARD
END:VTIMEZONE
BEGIN:VEVENT
DTSTART;VALUE=DATE:20251001
DTEND;VALUE=DATE:20251101
DTSTAMP:20260423T100508
CREATED:20231019T015108Z
LAST-MODIFIED:20231019T015108Z
UID:1404-1759276800-1761955199@skidancer.com
SUMMARY:Study Group: LumboSacral Spine (Date TBD)
DESCRIPTION:Register with Lisa via the Contact Page\nPrerequisite is MASP
URL:https://skidancer.com/upcoming-seminar/study-group-lumbosacral-spine-date-tbd/
LOCATION:In-House Seminar\, 275 Barn Hill Road\, Wilson\, WY\, 83014\, United States
CATEGORIES:Study Groups
ORGANIZER;CN="Dr. Lisa Brady Grant%2C D.C.":MAILTO:drlisa@skidancer.com
END:VEVENT
BEGIN:VEVENT
DTSTART;VALUE=DATE:20250601
DTEND;VALUE=DATE:20250701
DTSTAMP:20260423T100508
CREATED:20231019T014114Z
LAST-MODIFIED:20231019T014114Z
UID:1402-1748736000-1751327999@skidancer.com
SUMMARY:Study Group: June 2025 TBD
DESCRIPTION:
URL:https://skidancer.com/upcoming-seminar/study-group-june-2025-tbd/
LOCATION:In-House Seminar\, 275 Barn Hill Road\, Wilson\, WY\, 83014\, United States
CATEGORIES:Study Groups
ORGANIZER;CN="Dr. Lisa Brady Grant%2C D.C.":MAILTO:drlisa@skidancer.com
END:VEVENT
BEGIN:VEVENT
DTSTART;VALUE=DATE:20250404
DTEND;VALUE=DATE:20250407
DTSTAMP:20260423T100508
CREATED:20231019T022549Z
LAST-MODIFIED:20231019T023119Z
UID:1419-1743724800-1743983999@skidancer.com
SUMMARY:VMAT – Advanced Visceral Components of the Neck & Thorax
DESCRIPTION:To register: \nPlease click the ‘Website’ link in the ‘Details’ section below.
URL:https://skidancer.com/upcoming-seminar/vmat-advanced-visceral-components-of-the-neck-thorax-2/
LOCATION:TBD Chicago\, Chicago\, IL\, United States
CATEGORIES:Visceral Manipulation
ORGANIZER;CN="Barral Institute USA":MAILTO:info@barralinstitute.com
END:VEVENT
BEGIN:VEVENT
DTSTART;VALUE=DATE:20241122
DTEND;VALUE=DATE:20241125
DTSTAMP:20260423T100508
CREATED:20231019T022217Z
LAST-MODIFIED:20231019T022337Z
UID:1415-1732233600-1732492799@skidancer.com
SUMMARY:VMAT – Advanced Visceral Components of the Neck & Thorax
DESCRIPTION:To register: \nPlease click the ‘Website’ link in the ‘Details’ section below.
URL:https://skidancer.com/upcoming-seminar/vmat-advanced-visceral-components-of-the-neck-thorax/
LOCATION:TBD Albuquerque\, Albuquerque\, NM\, United States
CATEGORIES:Visceral Manipulation
ORGANIZER;CN="Barral Institute USA":MAILTO:info@barralinstitute.com
END:VEVENT
BEGIN:VEVENT
DTSTART;VALUE=DATE:20241101
DTEND;VALUE=DATE:20241104
DTSTAMP:20260423T100508
CREATED:20231019T021812Z
LAST-MODIFIED:20231019T021812Z
UID:1413-1730419200-1730678399@skidancer.com
SUMMARY:MASP – New Manual Articular Approach; Spine & Pelvis
DESCRIPTION:To register: \nPlease click the ‘Website’ link in the ‘Details’ section below.
URL:https://skidancer.com/upcoming-seminar/masp-new-manual-articular-approach-spine-pelvis/
LOCATION:TBD New York\, New York\, NY\, United States
CATEGORIES:Manual Articular Approach
ORGANIZER;CN="Barral Institute USA":MAILTO:info@barralinstitute.com
END:VEVENT
BEGIN:VEVENT
DTSTART;VALUE=DATE:20241011
DTEND;VALUE=DATE:20241014
DTSTAMP:20260423T100508
CREATED:20230627T021915Z
LAST-MODIFIED:20231019T013937Z
UID:1394-1728604800-1728863999@skidancer.com
SUMMARY:Study Group: ThoracoLumbar Junction
DESCRIPTION:Register with Lisa via the Contact Page\nPrerequisite is MASP & VM4
URL:https://skidancer.com/upcoming-seminar/study-group-thoracolumbar-junction/
LOCATION:In-House Seminar\, 275 Barn Hill Road\, Wilson\, WY\, 83014\, United States
CATEGORIES:Study Groups
ORGANIZER;CN="Dr. Lisa Brady Grant%2C D.C.":MAILTO:drlisa@skidancer.com
END:VEVENT
BEGIN:VEVENT
DTSTART;VALUE=DATE:20240614
DTEND;VALUE=DATE:20240617
DTSTAMP:20260423T100508
CREATED:20230627T021617Z
LAST-MODIFIED:20231019T022034Z
UID:1392-1718323200-1718582399@skidancer.com
SUMMARY:Study Group: (VMAT) Advanced Visceral Components of the Neck & Thorax
DESCRIPTION:Register with Lisa via the Contact Page\nPrerequisite is VM4
URL:https://skidancer.com/upcoming-seminar/study-group-vmat-advanced-visceral-components-of-the-neck-and-thorax/
LOCATION:In-House Seminar\, 275 Barn Hill Road\, Wilson\, WY\, 83014\, United States
CATEGORIES:Study Groups
ORGANIZER;CN="Dr. Lisa Brady Grant%2C D.C.":MAILTO:drlisa@skidancer.com
END:VEVENT
BEGIN:VEVENT
DTSTART;VALUE=DATE:20240524
DTEND;VALUE=DATE:20240527
DTSTAMP:20260423T100508
CREATED:20231019T021051Z
LAST-MODIFIED:20231019T021359Z
UID:1406-1716508800-1716767999@skidancer.com
SUMMARY:NM4 – Brain & Cranial Nerve Manipulation
DESCRIPTION:To register: \nPlease click the ‘Website’ link in the ‘Details’ section below.
URL:https://skidancer.com/upcoming-seminar/nm4-brain-cranial-nerve-manipulation-7/
LOCATION:TBD Lisbon\, Lisbon\, Portugal
CATEGORIES:Neural Manipulation
ORGANIZER;CN="Barral Institute PT":MAILTO:info@barralinstitute.pt
END:VEVENT
BEGIN:VEVENT
DTSTART;VALUE=DATE:20231208
DTEND;VALUE=DATE:20231211
DTSTAMP:20260423T100508
CREATED:20190213T040109Z
LAST-MODIFIED:20230627T015759Z
UID:1215-1701993600-1702252799@skidancer.com
SUMMARY:VVMU – Visceral Vascular Manipulation; Upper Body
DESCRIPTION:To register: \nPlease click the ‘Website’ link in the ‘Details’ section below.
URL:https://skidancer.com/upcoming-seminar/vvmu-visceral-vascular-manipulation-upper-body-4/
LOCATION:TBD Portland\, Portland\, OR\, United States
CATEGORIES:Visceral Vascular Manipulation
ORGANIZER;CN="Barral Institute USA":MAILTO:info@barralinstitute.com
END:VEVENT
BEGIN:VEVENT
DTSTART;VALUE=DATE:20231110
DTEND;VALUE=DATE:20231113
DTSTAMP:20260423T100508
CREATED:20230627T015535Z
LAST-MODIFIED:20230627T015535Z
UID:1383-1699574400-1699833599@skidancer.com
SUMMARY:MALE – Manual Articular Approach; Lower Extremity
DESCRIPTION:How to register: \nPlease click the ‘Website’ link in the ‘Details’ section below.
URL:https://skidancer.com/upcoming-seminar/male-manual-articular-approach-lower-extremity/
LOCATION:TBD Salt Lake City\, Salt Lake CIty\, UT\, United States
CATEGORIES:Manual Articular Approach
ORGANIZER;CN="Barral Institute USA":MAILTO:info@barralinstitute.com
END:VEVENT
BEGIN:VEVENT
DTSTART;VALUE=DATE:20231020
DTEND;VALUE=DATE:20231023
DTSTAMP:20260423T100508
CREATED:20190214T041012Z
LAST-MODIFIED:20220727T153542Z
UID:1234-1697760000-1698019199@skidancer.com
SUMMARY:NM4 – Brain & Cranial Nerve Manipulation
DESCRIPTION:With my local JH classes\, I am your contact for registration.\nPlease register and pay me directly. \nThe fee for each NM class is $895. \nRepeat students (Core-Pak or not) pay the same price. \nCore-Pak:\nIf you are a part of the Core-Pak Program and it is your first time taking the class\, there is a surcharge of $389 to register. \nThe class size is limited (8-12 students) and I will have a TA to help facilitate your best learning experience.\nStudent/Teacher ratio stays small so you get the work in your hands! \nSend a check to:\nLisa Brady Grant\nPO Box 1426\nWilson WY 83014
URL:https://skidancer.com/upcoming-seminar/nm4-brain-cranial-nerve-manipulation-5/
LOCATION:In-House Seminar\, 275 Barn Hill Road\, Wilson\, WY\, 83014\, United States
CATEGORIES:Neural Manipulation
ORGANIZER;CN="Dr. Lisa Brady Grant%2C D.C.":MAILTO:drlisa@skidancer.com
END:VEVENT
BEGIN:VEVENT
DTSTART;VALUE=DATE:20231005
DTEND;VALUE=DATE:20231009
DTSTAMP:20260423T100508
CREATED:20230627T015045Z
LAST-MODIFIED:20230627T015059Z
UID:1379-1696464000-1696809599@skidancer.com
SUMMARY:VM1 – Abdomen 1
DESCRIPTION:How to register: \nPlease click the ‘Website’ link in the ‘Details’ section below.
URL:https://skidancer.com/upcoming-seminar/vm1-abdomen-1-4/
LOCATION:TBD Minneapolis\, Minneapolis\, MN\, United States
CATEGORIES:Visceral Manipulation
ORGANIZER;CN="Barral Institute USA":MAILTO:info@barralinstitute.com
END:VEVENT
BEGIN:VEVENT
DTSTART;VALUE=DATE:20230901
DTEND;VALUE=DATE:20230904
DTSTAMP:20260423T100508
CREATED:20230627T021034Z
LAST-MODIFIED:20230627T021203Z
UID:1390-1693526400-1693785599@skidancer.com
SUMMARY:Study Group: Knee/Ankle
DESCRIPTION:Register with Lisa\, Contact Page\nPrerequisite is MALE
URL:https://skidancer.com/upcoming-seminar/study-group-knee-ankle/
LOCATION:In-House Seminar\, 275 Barn Hill Road\, Wilson\, WY\, 83014\, United States
CATEGORIES:Study Groups
ORGANIZER;CN="Dr. Lisa Brady Grant%2C D.C.":MAILTO:drlisa@skidancer.com
END:VEVENT
BEGIN:VEVENT
DTSTART;VALUE=DATE:20230811
DTEND;VALUE=DATE:20230814
DTSTAMP:20260423T100508
CREATED:20220711T231448Z
LAST-MODIFIED:20220711T231638Z
UID:1366-1691712000-1691971199@skidancer.com
SUMMARY:NM4 – Brain & Cranial Nerve Manipulation
DESCRIPTION:To register: \nPlease click the ‘Website’ link in the ‘Details’ section below.
URL:https://skidancer.com/upcoming-seminar/nm4-brain-cranial-nerve-manipulation-6/
LOCATION:TBD Fairfield\, New Jersey\, Fairfield\, NJ\, United States
CATEGORIES:Neural Manipulation
ORGANIZER;CN="Barral Institute USA":MAILTO:info@barralinstitute.com
END:VEVENT
BEGIN:VEVENT
DTSTART;VALUE=DATE:20230609
DTEND;VALUE=DATE:20230612
DTSTAMP:20260423T100508
CREATED:20230627T020307Z
LAST-MODIFIED:20230627T020847Z
UID:1386-1686268800-1686527999@skidancer.com
SUMMARY:Study Group: Cervical Spine
DESCRIPTION:Register with Lisa\, Contact Page\nPrerequisite is MASP
URL:https://skidancer.com/upcoming-seminar/study-group-cervical-spine/
LOCATION:In-House Seminar\, 275 Barn Hill Road\, Wilson\, WY\, 83014\, United States
CATEGORIES:Study Groups
ORGANIZER;CN="Dr. Lisa Brady Grant%2C D.C.":MAILTO:drlisa@skidancer.com
END:VEVENT
BEGIN:VEVENT
DTSTART;VALUE=DATE:20230519
DTEND;VALUE=DATE:20230522
DTSTAMP:20260423T100508
CREATED:20190213T035731Z
LAST-MODIFIED:20220727T003946Z
UID:1213-1684454400-1684713599@skidancer.com
SUMMARY:NM3 – Peripheral Nerve Manipulation; Lower Body
DESCRIPTION:With my local JH classes\, I am your contact for registration.\nPlease register and pay me directly. \nThe fee for each NM class is $895. \nRepeat students (Core-Pak or not) pay the same price. \nCore-Pak:\nIf you are a part of the Core-Pak Program and it is your first time taking the class\, there is a surcharge of $389 to register. \nThe class size is limited (8-12 students) and I will have a TA to help facilitate your best learning experience.\nStudent/Teacher ratio stays small so you get the work in your hands! \nSend a check to:\nLisa Brady Grant\nPO Box 1426\nWilson WY 83014
URL:https://skidancer.com/upcoming-seminar/nm3-peripheral-nerve-manipulation-lower-body-2/
LOCATION:In-House Seminar\, 275 Barn Hill Road\, Wilson\, WY\, 83014\, United States
CATEGORIES:Neural Manipulation
ORGANIZER;CN="Dr. Lisa Brady Grant%2C D.C.":MAILTO:drlisa@skidancer.com
END:VEVENT
BEGIN:VEVENT
DTSTART;VALUE=DATE:20221028
DTEND;VALUE=DATE:20221031
DTSTAMP:20260423T100508
CREATED:20211205T155630Z
LAST-MODIFIED:20211205T155717Z
UID:1322-1666915200-1667174399@skidancer.com
SUMMARY:Study Group: Shoulder/Heart/Thorax
DESCRIPTION:Register with Lisa\, Contact Page\nPrerequisite VM4
URL:https://skidancer.com/upcoming-seminar/study-group-shoulder-heart-thorax/
LOCATION:In-House Seminar\, 275 Barn Hill Road\, Wilson\, WY\, 83014\, United States
CATEGORIES:Study Groups
ORGANIZER;CN="Dr. Lisa Brady Grant%2C D.C.":MAILTO:drlisa@skidancer.com
END:VEVENT
BEGIN:VEVENT
DTSTART;VALUE=DATE:20220923
DTEND;VALUE=DATE:20220926
DTSTAMP:20260423T100508
CREATED:20220711T231113Z
LAST-MODIFIED:20220711T231113Z
UID:1364-1663891200-1664150399@skidancer.com
SUMMARY:VVML – Visceral Vascular Manipulation; Lower Body
DESCRIPTION:To register: \nPlease click the ‘Website’ link in the ‘Details’ section below.
URL:https://skidancer.com/upcoming-seminar/vvml-visceral-vascular-manipulation-lower-body-3/
LOCATION:TBD Salt Lake City\, Salt Lake CIty\, UT\, United States
CATEGORIES:Visceral Vascular Manipulation
ORGANIZER;CN="Barral Institute USA":MAILTO:info@barralinstitute.com
END:VEVENT
BEGIN:VEVENT
DTSTART;VALUE=DATE:20220826
DTEND;VALUE=DATE:20220829
DTSTAMP:20260423T100508
CREATED:20211203T233927Z
LAST-MODIFIED:20211204T000711Z
UID:1308-1661472000-1661731199@skidancer.com
SUMMARY:Study Group: Hip & Ankle
DESCRIPTION:Register with Lisa\, Contact Page
URL:https://skidancer.com/upcoming-seminar/study-group-hip-ankle/
LOCATION:In-House Seminar\, 275 Barn Hill Road\, Wilson\, WY\, 83014\, United States
CATEGORIES:Study Groups
ORGANIZER;CN="Dr. Lisa Brady Grant%2C D.C.":MAILTO:drlisa@skidancer.com
END:VEVENT
BEGIN:VEVENT
DTSTART;VALUE=DATE:20220603
DTEND;VALUE=DATE:20220606
DTSTAMP:20260423T100508
CREATED:20211205T162255Z
LAST-MODIFIED:20211205T162255Z
UID:1330-1654214400-1654473599@skidancer.com
SUMMARY:NM2 – Peripheral Nerve Manipulation; Upper Body
DESCRIPTION:With my local JH classes\, I am your contact for registration.\nPlease register and pay me directly. \nThe fee for each NM class is $895.\nIf you pay up to 60 days ahead (by Jan 25\, 2022 for NM1) there is a $200 savings: pay only $695. \nRepeat students (Core-Pak or not) pay the same price. \nTo register with the $200 savings for NM2; pay $695 by March 27 for NM2. \nCore-Pak:\nIf you are a part of the Core-Pak Program and it is your first time taking the class\, there is a surcharge of $389 to register. \nThe class size is limited (8-12 students) and I will have a TA to help facilitate your best learning experience.\nStudent/Teacher ratio stays small so you get the work in your hands! \nSend a check to:\nLisa Brady Grant\nPO Box 1426\nWilson WY 83014
URL:https://skidancer.com/upcoming-seminar/nm2-peripheral-nerve-manipulation-upper-body-7/
LOCATION:In-House Seminar\, 275 Barn Hill Road\, Wilson\, WY\, 83014\, United States
CATEGORIES:Neural Manipulation
ORGANIZER;CN="Dr. Lisa Brady Grant%2C D.C.":MAILTO:drlisa@skidancer.com
END:VEVENT
BEGIN:VEVENT
DTSTART;VALUE=DATE:20220325
DTEND;VALUE=DATE:20220328
DTSTAMP:20260423T100508
CREATED:20211205T161229Z
LAST-MODIFIED:20211205T162019Z
UID:1325-1648166400-1648425599@skidancer.com
SUMMARY:NM1 – Neuromeningeal Manipulation
DESCRIPTION:With my local JH classes\, I am your contact for registration.\nPlease register and pay me directly. \nThe fee for each NM class is $895.\nIf you pay up to 60 days ahead (by Jan 25\, 2022 for NM1) there is a $200 savings: pay only $695. \nRepeat students (Core-Pak or not) pay the same price. \nTo register with the $200 savings for NM2; pay $695 by March 27 for NM2. \nCore-Pak:\nIf you are a part of the Core-Pak Program and it is your first time taking the class\, there is a surcharge of $389 to register. \nThe class size is limited (8-12 students) and I will have a TA to help facilitate your best learning experience.\nStudent/Teacher ratio stays small so you get the work in your hands! \nSend a check to:\nLisa Brady Grant\nPO Box 1426\nWilson WY 83014
URL:https://skidancer.com/upcoming-seminar/nm1-neuromeningeal-manipulation-7/
LOCATION:In-House Seminar\, 275 Barn Hill Road\, Wilson\, WY\, 83014\, United States
CATEGORIES:Neural Manipulation
ORGANIZER;CN="Dr. Lisa Brady Grant%2C D.C.":MAILTO:drlisa@skidancer.com
END:VEVENT
BEGIN:VEVENT
DTSTART;VALUE=DATE:20220311
DTEND;VALUE=DATE:20220314
DTSTAMP:20260423T100508
CREATED:20211205T163933Z
LAST-MODIFIED:20211205T164041Z
UID:1332-1646956800-1647215999@skidancer.com
SUMMARY:MAUE – New Manual Articular Approach: Upper Extremity
DESCRIPTION:To register: \nPlease click the ‘Website’ link in the ‘Details’ section below.
URL:https://skidancer.com/upcoming-seminar/maue-new-manual-articular-approach-upper-extremity/
LOCATION:TBD Salt Lake City\, Salt Lake CIty\, UT\, United States
CATEGORIES:Manual Articular Approach
ORGANIZER;CN="Barral Institute USA":MAILTO:info@barralinstitute.com
END:VEVENT
BEGIN:VEVENT
DTSTART;VALUE=DATE:20200924
DTEND;VALUE=DATE:20200927
DTSTAMP:20260423T100508
CREATED:20180921T182155Z
LAST-MODIFIED:20180921T182155Z
UID:1056-1600905600-1601164799@skidancer.com
SUMMARY:VVML – Visceral Vascular Manipulation; Lower Body
DESCRIPTION:To register: \nPlease click the ‘Website’ link in the ‘Details’ section below.
URL:https://skidancer.com/upcoming-seminar/vvml-visceral-vascular-manipulation-lower-body-5/
LOCATION:TBD Edmonton\, Edmonton\, Alberta\, Canada
CATEGORIES:Visceral Vascular Manipulation
ORGANIZER;CN="Barral Institute USA":MAILTO:info@barralinstitute.com
END:VEVENT
BEGIN:VEVENT
DTSTART;VALUE=DATE:20200603
DTEND;VALUE=DATE:20200607
DTSTAMP:20260423T100508
CREATED:20190501T142157Z
LAST-MODIFIED:20190915T171456Z
UID:1288-1591142400-1591487999@skidancer.com
SUMMARY:VM4 – The Thorax
DESCRIPTION:To register for ‘In-house’ seminars:\nMail a check or use PayPal below: \nDr. Lisa Brady Grant\nPO Box 1426\nWilson\, WY 83014 \nBy Check or Paypal: Standard Course Fee $895 \n\nRepeat Student: 		\n		Fees & Policy		\n		 • Core-Pak Student: 		\n		Fees & Policy		\n		 \n		\n		Cancelation Policy		\n		 \n\n  \n\n\n\nSeminar Registration Fee:\n\n\nVM 1 & NM 1-4 $795.00 USDVM 2-5 $895.00 USDVVMU-ML $850.00 USDAll Core-Pak Registration $389.00 USDAll Repeat Registration $450.00 USD\n\n\n\n   \n\n\n\n\nCustom Registration Fee:
URL:https://skidancer.com/upcoming-seminar/vm4-the-thorax-4/
LOCATION:In-House Seminar\, 275 Barn Hill Road\, Wilson\, WY\, 83014\, United States
CATEGORIES:Visceral Manipulation
ORGANIZER;CN="Dr. Lisa Brady Grant%2C D.C.":MAILTO:drlisa@skidancer.com
END:VEVENT
BEGIN:VEVENT
DTSTART;VALUE=DATE:20200501
DTEND;VALUE=DATE:20200504
DTSTAMP:20260423T100508
CREATED:20190915T171840Z
LAST-MODIFIED:20190915T172123Z
UID:1304-1588291200-1588550399@skidancer.com
SUMMARY:NM2 – Peripheral Nerve Manipulation; Upper Body
DESCRIPTION:To register: \nPlease click the ‘Website’ link in the ‘Details’ section below.
URL:https://skidancer.com/upcoming-seminar/nm2-peripheral-nerve-manipulation-upper-body-6/
LOCATION:TBD New York\, New York\, NY\, United States
CATEGORIES:Neural Manipulation
ORGANIZER;CN="Barral Institute USA":MAILTO:info@barralinstitute.com
END:VEVENT
BEGIN:VEVENT
DTSTART;VALUE=DATE:20200417
DTEND;VALUE=DATE:20200420
DTSTAMP:20260423T100508
CREATED:20190213T041034Z
LAST-MODIFIED:20190213T041228Z
UID:1220-1587081600-1587340799@skidancer.com
SUMMARY:MAUE – Manual Articular Approach; Upper Extremity
DESCRIPTION:To register: \nPlease click the ‘Website’ link in the ‘Details’ section below.
URL:https://skidancer.com/upcoming-seminar/maue-manual-articular-approach-upper-extremity/
LOCATION:TBD Portland\, Portland\, OR\, United States
CATEGORIES:Manual Articular Approach
ORGANIZER;CN="Barral Institute USA":MAILTO:info@barralinstitute.com
END:VEVENT
BEGIN:VEVENT
DTSTART;VALUE=DATE:20200319
DTEND;VALUE=DATE:20200323
DTSTAMP:20260423T100508
CREATED:20180313T215855Z
LAST-MODIFIED:20190424T183818Z
UID:970-1584576000-1584921599@skidancer.com
SUMMARY:VM3 – The Pelvis
DESCRIPTION:To register: \nPlease click the ‘Website’ link in the ‘Details’ section below.
URL:https://skidancer.com/upcoming-seminar/vm3-the-pelvis-3/
LOCATION:TBD Salt Lake City\, Salt Lake CIty\, UT\, United States
CATEGORIES:Visceral Manipulation
ORGANIZER;CN="Barral Institute USA":MAILTO:info@barralinstitute.com
END:VEVENT
BEGIN:VEVENT
DTSTART;VALUE=DATE:20191122
DTEND;VALUE=DATE:20191125
DTSTAMP:20260423T100508
CREATED:20180921T181203Z
LAST-MODIFIED:20190731T213421Z
UID:1053-1574380800-1574639999@skidancer.com
SUMMARY:VVMU – Visceral Vascular Manipulation; Upper Body
DESCRIPTION:To register: \nPlease click the ‘Website’ link in the ‘Details’ section below.
URL:https://skidancer.com/upcoming-seminar/vvmu-visceral-vascular-manipulation-upper-body-3/
LOCATION:TBD Edmonton\, Edmonton\, Alberta\, Canada
CATEGORIES:Visceral Vascular Manipulation
ORGANIZER;CN="Barral Institute USA":MAILTO:info@barralinstitute.com
END:VEVENT
BEGIN:VEVENT
DTSTART;VALUE=DATE:20190909
DTEND;VALUE=DATE:20190912
DTSTAMP:20260423T100508
CREATED:20190116T140733Z
LAST-MODIFIED:20190731T215841Z
UID:1178-1567987200-1568246399@skidancer.com
SUMMARY:NM Mastery Skills Class
DESCRIPTION:—Participation is by Invitation Only—\nGoals of Training: \n\nIn-depth training in neural manipulation to confirm ability to not only perform the specific neural techniques\, but to utilize this work in clinical practice.\nProvide experiential forum for palpation of nervous system to improve skill of implementing techniques taught in NM1 through NM4 with focus on listening\, accuracy/precision and interpretations for enhanced clinical judgment.\nEnhance clinical integration of NM with VM.\nIntroduce integrating NM and VM based on specific findings of neural assessment through discussion of clinical examples and demonstration.\nProvide support to prepare for Barral Institute Exam for Certification as an NM practitioner.\n\nThis Mastery Class is followed by an opportunity to take the NM Certification Test: \n\nDates: Sept 12-13\, 2019 (maximum of 6 students can test; at my office)\nMastery Class can be taken without certification testing.\n\nCost & Students: \n\nCost for Mastery Class\, $900 – payable to Dr. Lisa Brady Grant\n\nAccepting down payments of $300 & $450\nBalance due in full by: August 1\, 2019\n\n\nCost for NM Certification – included in your Core-Pak; payable to Barral Institute\nMaximum 8-12 students for Mastery Class (can take class without testing)\nMaximum 6 for Certification Tests (3 hour time slot on Thursday or Friday)\n\nTo register for this ‘In-house’ NM Mastery Skills Class:\nMail a check or use PayPal below: \nDr. Lisa Brady Grant\nPO Box 1426\nWilson\, WY 83014 \nBy Check or Paypal: Class Fee $900 \n\n		\n		Cancelation Policy		\n		 \n\n  \n\n\n\nNM Mastery Class Registration Fee:\n\n\nNM Mastery Class $900.00 USDMastery Class partial #1 $450.00 USDMastery Class partial #2 $300.00 USD\n\n\n\n \n\n\nCustom Payment Amount:
URL:https://skidancer.com/upcoming-seminar/nm-mastery-skills-class/
LOCATION:In-House Seminar\, 275 Barn Hill Road\, Wilson\, WY\, 83014\, United States
CATEGORIES:Mastery Class,Neural Manipulation
ORGANIZER;CN="Dr. Lisa Brady Grant%2C D.C.":MAILTO:drlisa@skidancer.com
END:VEVENT
BEGIN:VEVENT
DTSTART;VALUE=DATE:20190509
DTEND;VALUE=DATE:20190512
DTSTAMP:20260423T100508
CREATED:20180313T220540Z
LAST-MODIFIED:20180323T210958Z
UID:972-1557360000-1557619199@skidancer.com
SUMMARY:VVML – Visceral Vascular Manipulation; Lower Body
DESCRIPTION:To register: \nPlease click the ‘Website’ link in the ‘Details’ section below.
URL:https://skidancer.com/upcoming-seminar/vvml-visceral-vascular-manipulation-lower-body-4/
LOCATION:TBD Albuquerque\, Albuquerque\, NM\, United States
CATEGORIES:Visceral Vascular Manipulation
ORGANIZER;CN="Barral Institute USA":MAILTO:info@barralinstitute.com
END:VEVENT
END:VCALENDAR