BEGIN:VCALENDAR
VERSION:2.0
PRODID:-//Dr. Lisa Brady Grant, D.C. - ECPv6.15.3//NONSGML v1.0//EN
CALSCALE:GREGORIAN
METHOD:PUBLISH
X-ORIGINAL-URL:https://skidancer.com
X-WR-CALDESC:Events for Dr. Lisa Brady Grant, D.C.
REFRESH-INTERVAL;VALUE=DURATION:PT1H
X-Robots-Tag:noindex
X-PUBLISHED-TTL:PT1H
BEGIN:VTIMEZONE
TZID:America/Denver
BEGIN:DAYLIGHT
TZOFFSETFROM:-0700
TZOFFSETTO:-0600
TZNAME:MDT
DTSTART:20190310T090000
END:DAYLIGHT
BEGIN:STANDARD
TZOFFSETFROM:-0600
TZOFFSETTO:-0700
TZNAME:MST
DTSTART:20191103T080000
END:STANDARD
END:VTIMEZONE
BEGIN:VEVENT
DTSTART;VALUE=DATE:20190909
DTEND;VALUE=DATE:20190912
DTSTAMP:20260423T102822
CREATED:20190116T140733Z
LAST-MODIFIED:20190731T215841Z
UID:1178-1567987200-1568246399@skidancer.com
SUMMARY:NM Mastery Skills Class
DESCRIPTION:—Participation is by Invitation Only—\nGoals of Training: \n\nIn-depth training in neural manipulation to confirm ability to not only perform the specific neural techniques\, but to utilize this work in clinical practice.\nProvide experiential forum for palpation of nervous system to improve skill of implementing techniques taught in NM1 through NM4 with focus on listening\, accuracy/precision and interpretations for enhanced clinical judgment.\nEnhance clinical integration of NM with VM.\nIntroduce integrating NM and VM based on specific findings of neural assessment through discussion of clinical examples and demonstration.\nProvide support to prepare for Barral Institute Exam for Certification as an NM practitioner.\n\nThis Mastery Class is followed by an opportunity to take the NM Certification Test: \n\nDates: Sept 12-13\, 2019 (maximum of 6 students can test; at my office)\nMastery Class can be taken without certification testing.\n\nCost & Students: \n\nCost for Mastery Class\, $900 – payable to Dr. Lisa Brady Grant\n\nAccepting down payments of $300 & $450\nBalance due in full by: August 1\, 2019\n\n\nCost for NM Certification – included in your Core-Pak; payable to Barral Institute\nMaximum 8-12 students for Mastery Class (can take class without testing)\nMaximum 6 for Certification Tests (3 hour time slot on Thursday or Friday)\n\nTo register for this ‘In-house’ NM Mastery Skills Class:\nMail a check or use PayPal below: \nDr. Lisa Brady Grant\nPO Box 1426\nWilson\, WY 83014 \nBy Check or Paypal: Class Fee $900 \n\n		\n		Cancelation Policy		\n		 \n\n  \n\n\n\nNM Mastery Class Registration Fee:\n\n\nNM Mastery Class $900.00 USDMastery Class partial #1 $450.00 USDMastery Class partial #2 $300.00 USD\n\n\n\n \n\n\nCustom Payment Amount:
URL:https://skidancer.com/upcoming-seminar/nm-mastery-skills-class/
LOCATION:In-House Seminar\, 275 Barn Hill Road\, Wilson\, WY\, 83014\, United States
CATEGORIES:Mastery Class,Neural Manipulation
ORGANIZER;CN="Dr. Lisa Brady Grant%2C D.C.":MAILTO:drlisa@skidancer.com
END:VEVENT
END:VCALENDAR