BEGIN:VCALENDAR
VERSION:2.0
PRODID:-//Dr. Lisa Brady Grant, D.C. - ECPv6.15.3//NONSGML v1.0//EN
CALSCALE:GREGORIAN
METHOD:PUBLISH
X-ORIGINAL-URL:https://skidancer.com
X-WR-CALDESC:Events for Dr. Lisa Brady Grant, D.C.
REFRESH-INTERVAL;VALUE=DURATION:PT1H
X-Robots-Tag:noindex
X-PUBLISHED-TTL:PT1H
BEGIN:VTIMEZONE
TZID:America/Denver
BEGIN:DAYLIGHT
TZOFFSETFROM:-0700
TZOFFSETTO:-0600
TZNAME:MDT
DTSTART:20200308T090000
END:DAYLIGHT
BEGIN:STANDARD
TZOFFSETFROM:-0600
TZOFFSETTO:-0700
TZNAME:MST
DTSTART:20201101T080000
END:STANDARD
BEGIN:DAYLIGHT
TZOFFSETFROM:-0700
TZOFFSETTO:-0600
TZNAME:MDT
DTSTART:20210314T090000
END:DAYLIGHT
BEGIN:STANDARD
TZOFFSETFROM:-0600
TZOFFSETTO:-0700
TZNAME:MST
DTSTART:20211107T080000
END:STANDARD
BEGIN:DAYLIGHT
TZOFFSETFROM:-0700
TZOFFSETTO:-0600
TZNAME:MDT
DTSTART:20220313T090000
END:DAYLIGHT
BEGIN:STANDARD
TZOFFSETFROM:-0600
TZOFFSETTO:-0700
TZNAME:MST
DTSTART:20221106T080000
END:STANDARD
BEGIN:DAYLIGHT
TZOFFSETFROM:-0700
TZOFFSETTO:-0600
TZNAME:MDT
DTSTART:20230312T090000
END:DAYLIGHT
BEGIN:STANDARD
TZOFFSETFROM:-0600
TZOFFSETTO:-0700
TZNAME:MST
DTSTART:20231105T080000
END:STANDARD
BEGIN:DAYLIGHT
TZOFFSETFROM:-0700
TZOFFSETTO:-0600
TZNAME:MDT
DTSTART:20240310T090000
END:DAYLIGHT
BEGIN:STANDARD
TZOFFSETFROM:-0600
TZOFFSETTO:-0700
TZNAME:MST
DTSTART:20241103T080000
END:STANDARD
END:VTIMEZONE
BEGIN:VEVENT
DTSTART;VALUE=DATE:20241101
DTEND;VALUE=DATE:20241104
DTSTAMP:20260423T121526
CREATED:20231019T021812Z
LAST-MODIFIED:20231019T021812Z
UID:1413-1730419200-1730678399@skidancer.com
SUMMARY:MASP – New Manual Articular Approach; Spine & Pelvis
DESCRIPTION:To register: \nPlease click the ‘Website’ link in the ‘Details’ section below.
URL:https://skidancer.com/upcoming-seminar/masp-new-manual-articular-approach-spine-pelvis/
LOCATION:TBD New York\, New York\, NY\, United States
CATEGORIES:Manual Articular Approach
ORGANIZER;CN="Barral Institute USA":MAILTO:info@barralinstitute.com
END:VEVENT
BEGIN:VEVENT
DTSTART;VALUE=DATE:20231110
DTEND;VALUE=DATE:20231113
DTSTAMP:20260423T121526
CREATED:20230627T015535Z
LAST-MODIFIED:20230627T015535Z
UID:1383-1699574400-1699833599@skidancer.com
SUMMARY:MALE – Manual Articular Approach; Lower Extremity
DESCRIPTION:How to register: \nPlease click the ‘Website’ link in the ‘Details’ section below.
URL:https://skidancer.com/upcoming-seminar/male-manual-articular-approach-lower-extremity/
LOCATION:TBD Salt Lake City\, Salt Lake CIty\, UT\, United States
CATEGORIES:Manual Articular Approach
ORGANIZER;CN="Barral Institute USA":MAILTO:info@barralinstitute.com
END:VEVENT
BEGIN:VEVENT
DTSTART;VALUE=DATE:20220311
DTEND;VALUE=DATE:20220314
DTSTAMP:20260423T121526
CREATED:20211205T163933Z
LAST-MODIFIED:20211205T164041Z
UID:1332-1646956800-1647215999@skidancer.com
SUMMARY:MAUE – New Manual Articular Approach: Upper Extremity
DESCRIPTION:To register: \nPlease click the ‘Website’ link in the ‘Details’ section below.
URL:https://skidancer.com/upcoming-seminar/maue-new-manual-articular-approach-upper-extremity/
LOCATION:TBD Salt Lake City\, Salt Lake CIty\, UT\, United States
CATEGORIES:Manual Articular Approach
ORGANIZER;CN="Barral Institute USA":MAILTO:info@barralinstitute.com
END:VEVENT
BEGIN:VEVENT
DTSTART;VALUE=DATE:20200417
DTEND;VALUE=DATE:20200420
DTSTAMP:20260423T121526
CREATED:20190213T041034Z
LAST-MODIFIED:20190213T041228Z
UID:1220-1587081600-1587340799@skidancer.com
SUMMARY:MAUE – Manual Articular Approach; Upper Extremity
DESCRIPTION:To register: \nPlease click the ‘Website’ link in the ‘Details’ section below.
URL:https://skidancer.com/upcoming-seminar/maue-manual-articular-approach-upper-extremity/
LOCATION:TBD Portland\, Portland\, OR\, United States
CATEGORIES:Manual Articular Approach
ORGANIZER;CN="Barral Institute USA":MAILTO:info@barralinstitute.com
END:VEVENT
END:VCALENDAR